BEGIN:VCALENDAR
VERSION:2.0
PRODID:-//KOE Australia - ECPv6.15.20//NONSGML v1.0//EN
CALSCALE:GREGORIAN
METHOD:PUBLISH
X-WR-CALNAME:KOE Australia
X-ORIGINAL-URL:https://www.keysofenoch.org.au
X-WR-CALDESC:Events for KOE Australia
REFRESH-INTERVAL;VALUE=DURATION:PT1H
X-Robots-Tag:noindex
X-PUBLISHED-TTL:PT1H
BEGIN:VTIMEZONE
TZID:Australia/Adelaide
BEGIN:STANDARD
TZOFFSETFROM:+1030
TZOFFSETTO:+0930
TZNAME:ACST
DTSTART:20190406T163000
END:STANDARD
BEGIN:DAYLIGHT
TZOFFSETFROM:+0930
TZOFFSETTO:+1030
TZNAME:ACDT
DTSTART:20191005T163000
END:DAYLIGHT
BEGIN:STANDARD
TZOFFSETFROM:+1030
TZOFFSETTO:+0930
TZNAME:ACST
DTSTART:20200404T163000
END:STANDARD
BEGIN:DAYLIGHT
TZOFFSETFROM:+0930
TZOFFSETTO:+1030
TZNAME:ACDT
DTSTART:20201003T163000
END:DAYLIGHT
BEGIN:STANDARD
TZOFFSETFROM:+1030
TZOFFSETTO:+0930
TZNAME:ACST
DTSTART:20210403T163000
END:STANDARD
BEGIN:DAYLIGHT
TZOFFSETFROM:+0930
TZOFFSETTO:+1030
TZNAME:ACDT
DTSTART:20211002T163000
END:DAYLIGHT
END:VTIMEZONE
BEGIN:VEVENT
DTSTART;TZID=Australia/Adelaide:20200208T100000
DTEND;TZID=Australia/Adelaide:20200208T180000
DTSTAMP:20260425T035910
CREATED:20200119T164549Z
LAST-MODIFIED:20200119T164549Z
UID:2639-1581156000-1581184800@www.keysofenoch.org.au
SUMMARY:Harmonics of Light & Colour
DESCRIPTION:Harmonics of Light & Colour Workshop\nFeb 8th\, 2020\nBased on The Book of Knowledge: The Keys of Enoch®\nwith Darren and Bradley AFFS Australia \nGateway Centre Mitcham\, SA: 10-6pm \nThis workshop series explores future science\, spirituality \, multidimensional realties and new areas of healing that are being advanced through the spiritual-technologies of Light\, Colour and Sound. Since 1973 The Keys of Enoch\, has predicted how colour and sound connects with the superluminal Light as the three main factors to allow new forms of consciousness raising\, healing and thought expansion. \nThis workshop will include musical meditation and the use of sacred names to connect back into the higher levels of the Godhead. \n$49 Full / $40 Conc. per workshop. (includes booking fees) \nLocation: The Gateway Centre\, Mitcham South Australia \nMore info : www.keysofenoch.org.au \nTickets: https://www.stickytickets.com.au/CQQ70 \nacademyeventsaus@gmail.com \nBradley 0430 836 811 \nShare:
URL:https://www.keysofenoch.org.au/event/harmonics-of-light-colour/
LOCATION:8 old belair road mitcham\, 8 old belair road\, mitcham\, South Australia\, Australia
ORGANIZER;CN="AFFS Australia":MAILTO:academyeventsaus@gmail.com
END:VEVENT
END:VCALENDAR