BEGIN:VCALENDAR
VERSION:2.0
PRODID:-//KOE Australia - ECPv6.15.20//NONSGML v1.0//EN
CALSCALE:GREGORIAN
METHOD:PUBLISH
X-WR-CALNAME:KOE Australia
X-ORIGINAL-URL:https://www.keysofenoch.org.au
X-WR-CALDESC:Events for KOE Australia
REFRESH-INTERVAL;VALUE=DURATION:PT1H
X-Robots-Tag:noindex
X-PUBLISHED-TTL:PT1H
BEGIN:VTIMEZONE
TZID:Australia/Melbourne
BEGIN:STANDARD
TZOFFSETFROM:+1100
TZOFFSETTO:+1000
TZNAME:AEST
DTSTART:20150404T160000
END:STANDARD
BEGIN:DAYLIGHT
TZOFFSETFROM:+1000
TZOFFSETTO:+1100
TZNAME:AEDT
DTSTART:20151003T160000
END:DAYLIGHT
BEGIN:STANDARD
TZOFFSETFROM:+1100
TZOFFSETTO:+1000
TZNAME:AEST
DTSTART:20160402T160000
END:STANDARD
BEGIN:DAYLIGHT
TZOFFSETFROM:+1000
TZOFFSETTO:+1100
TZNAME:AEDT
DTSTART:20161001T160000
END:DAYLIGHT
BEGIN:STANDARD
TZOFFSETFROM:+1100
TZOFFSETTO:+1000
TZNAME:AEST
DTSTART:20170401T160000
END:STANDARD
BEGIN:DAYLIGHT
TZOFFSETFROM:+1000
TZOFFSETTO:+1100
TZNAME:AEDT
DTSTART:20170930T160000
END:DAYLIGHT
END:VTIMEZONE
BEGIN:VEVENT
DTSTART;TZID=Australia/Melbourne:20160930T190000
DTEND;TZID=Australia/Melbourne:20160930T220000
DTSTAMP:20260425T210545
CREATED:20160920T171845Z
LAST-MODIFIED:20160920T174956Z
UID:2214-1475262000-1475272800@www.keysofenoch.org.au
SUMMARY:Melbourne AFFS Australia Friday 30th Sep.
DESCRIPTION:  \n  \n  \n  \n  \nJoin Australia’s Academy for Future Science Co-Coordinator\, Mr. Darren Curtis\, for an evening study group in Melbourne. \nTopic: Key 1-0-4 the Divine Mother and the End of Suffering \nFrom the myriad Names of the Divine Mother in the Sanskrit tradition to the notions of the feminine Wisdom amongst the ancient Mayan cultures\, the Divine Mother is there to welcome the occasion of our rebirth and regenesis. Indeed\, our daily prayers can draw upon Her Names\, while the cosmic pictures give voice to our hearts’ deepest desires— to be in service to the Source of All and all of humanity. (J. J. Hurtak)\nFriday 30 September 2016\nTime: 7:00pm-10:00pm\nVenue: Ross House\,  Level 1\, 247 Flinders Ln\, Melbourne VIC\nCost: $15/$10 – please pay on the door\nRSVP: Darren Curtis on 0430837354 or at academyeventsaus@gmail.com \nShare:
URL:https://www.keysofenoch.org.au/event/melbourne-affs-30th-sep/
LOCATION:Ross House\, Level 1\, 247 Flinders Ln\, Melbourne\, VIC\, 3000\, Australia
ORGANIZER;CN="AFFS Australia":MAILTO:academyeventsaus@gmail.com
END:VEVENT
END:VCALENDAR