BEGIN:VCALENDAR
VERSION:2.0
PRODID:-//KOE Australia - ECPv6.15.20//NONSGML v1.0//EN
CALSCALE:GREGORIAN
METHOD:PUBLISH
X-ORIGINAL-URL:https://www.keysofenoch.org.au
X-WR-CALDESC:Events for KOE Australia
REFRESH-INTERVAL;VALUE=DURATION:PT1H
X-Robots-Tag:noindex
X-PUBLISHED-TTL:PT1H
BEGIN:VTIMEZONE
TZID:Australia/Adelaide
BEGIN:STANDARD
TZOFFSETFROM:+1030
TZOFFSETTO:+0930
TZNAME:ACST
DTSTART:20170401T163000
END:STANDARD
BEGIN:DAYLIGHT
TZOFFSETFROM:+0930
TZOFFSETTO:+1030
TZNAME:ACDT
DTSTART:20170930T163000
END:DAYLIGHT
BEGIN:STANDARD
TZOFFSETFROM:+1030
TZOFFSETTO:+0930
TZNAME:ACST
DTSTART:20180331T163000
END:STANDARD
BEGIN:DAYLIGHT
TZOFFSETFROM:+0930
TZOFFSETTO:+1030
TZNAME:ACDT
DTSTART:20181006T163000
END:DAYLIGHT
BEGIN:STANDARD
TZOFFSETFROM:+1030
TZOFFSETTO:+0930
TZNAME:ACST
DTSTART:20190406T163000
END:STANDARD
BEGIN:DAYLIGHT
TZOFFSETFROM:+0930
TZOFFSETTO:+1030
TZNAME:ACDT
DTSTART:20191005T163000
END:DAYLIGHT
BEGIN:STANDARD
TZOFFSETFROM:+1030
TZOFFSETTO:+0930
TZNAME:ACST
DTSTART:20200404T163000
END:STANDARD
BEGIN:DAYLIGHT
TZOFFSETFROM:+0930
TZOFFSETTO:+1030
TZNAME:ACDT
DTSTART:20201003T163000
END:DAYLIGHT
BEGIN:STANDARD
TZOFFSETFROM:+1030
TZOFFSETTO:+0930
TZNAME:ACST
DTSTART:20210403T163000
END:STANDARD
BEGIN:DAYLIGHT
TZOFFSETFROM:+0930
TZOFFSETTO:+1030
TZNAME:ACDT
DTSTART:20211002T163000
END:DAYLIGHT
BEGIN:STANDARD
TZOFFSETFROM:+1030
TZOFFSETTO:+0930
TZNAME:ACST
DTSTART:20220402T163000
END:STANDARD
BEGIN:DAYLIGHT
TZOFFSETFROM:+0930
TZOFFSETTO:+1030
TZNAME:ACDT
DTSTART:20221001T163000
END:DAYLIGHT
BEGIN:STANDARD
TZOFFSETFROM:+1030
TZOFFSETTO:+0930
TZNAME:ACST
DTSTART:20230401T163000
END:STANDARD
BEGIN:DAYLIGHT
TZOFFSETFROM:+0930
TZOFFSETTO:+1030
TZNAME:ACDT
DTSTART:20230930T163000
END:DAYLIGHT
BEGIN:STANDARD
TZOFFSETFROM:+1030
TZOFFSETTO:+0930
TZNAME:ACST
DTSTART:20240406T163000
END:STANDARD
BEGIN:DAYLIGHT
TZOFFSETFROM:+0930
TZOFFSETTO:+1030
TZNAME:ACDT
DTSTART:20241005T163000
END:DAYLIGHT
BEGIN:STANDARD
TZOFFSETFROM:+1030
TZOFFSETTO:+0930
TZNAME:ACST
DTSTART:20250405T163000
END:STANDARD
BEGIN:DAYLIGHT
TZOFFSETFROM:+0930
TZOFFSETTO:+1030
TZNAME:ACDT
DTSTART:20251004T163000
END:DAYLIGHT
BEGIN:STANDARD
TZOFFSETFROM:+1030
TZOFFSETTO:+0930
TZNAME:ACST
DTSTART:20260404T163000
END:STANDARD
BEGIN:DAYLIGHT
TZOFFSETFROM:+0930
TZOFFSETTO:+1030
TZNAME:ACDT
DTSTART:20261003T163000
END:DAYLIGHT
END:VTIMEZONE
BEGIN:VTIMEZONE
TZID:Australia/Melbourne
BEGIN:STANDARD
TZOFFSETFROM:+1100
TZOFFSETTO:+1000
TZNAME:AEST
DTSTART:20170401T160000
END:STANDARD
BEGIN:DAYLIGHT
TZOFFSETFROM:+1000
TZOFFSETTO:+1100
TZNAME:AEDT
DTSTART:20170930T160000
END:DAYLIGHT
BEGIN:STANDARD
TZOFFSETFROM:+1100
TZOFFSETTO:+1000
TZNAME:AEST
DTSTART:20180331T160000
END:STANDARD
BEGIN:DAYLIGHT
TZOFFSETFROM:+1000
TZOFFSETTO:+1100
TZNAME:AEDT
DTSTART:20181006T160000
END:DAYLIGHT
BEGIN:STANDARD
TZOFFSETFROM:+1100
TZOFFSETTO:+1000
TZNAME:AEST
DTSTART:20190406T160000
END:STANDARD
BEGIN:DAYLIGHT
TZOFFSETFROM:+1000
TZOFFSETTO:+1100
TZNAME:AEDT
DTSTART:20191005T160000
END:DAYLIGHT
END:VTIMEZONE
BEGIN:VEVENT
DTSTART;TZID=Australia/Adelaide:20180428T103000
DTEND;TZID=Australia/Adelaide:20180429T173000
DTSTAMP:20260426T013857
CREATED:20180410T083415Z
LAST-MODIFIED:20180410T084023Z
UID:2458-1524911400-1525023000@www.keysofenoch.org.au
SUMMARY:The Quantum Mind\, The Overself Awakening and the Keys of Enoch ®
DESCRIPTION:The Quantum Mind\, The Overself Awakening and The Keys of Enoch® \nA 2-day seminar with Ulli Granögger\, Academy For Future Science Europe\, and Darren Curtis & Bradley Pitt\, Academy for Future Science Australia. \nDates: Saturday 28 April & Sunday 29 April 2018. \nLocation: Adelaide (Magill)\, South Australia. \n(Open to Aus & NZ residents only) \n10:30-5:30pm daily. \nThis seminar will focus on the latest spiritual-scientific synthesis connected with the teaching of The Book of Knowledge: The Keys of Enoch®. Ulli will take you in “The Nine Ways of Bon” in the light of The Keys of Enoch\, which gives us a blueprint for how to change the cognitive and psycho-energetical matrix of our individual access to reality. In these nine step functions we are enabled to open the “time-locks” in our brains until we can work directly with the Highest Orders of Light as the New Adam Kadmon. Ulli will use meditation exercises involving our space-time seals and an understanding of the “world of negative mass” to facilitate a deeper experience of the teaching. \nDarren and Bradley will discuss the awakening of the Overself\, and techniques based on the consciousness sciences and Sacred Music connected with The Keys of Enoch. Can we experience Higher dimensions through sacred sound and a new connection with our true Self? \nThrough the Divine Names revealed to the ancients\, we connect with new transformational linguistics into an activated Light Body. With the Sacred Names\, we can understand the consciousness power of Divine science\, which not only governs the sacred geometry of the temples around the world\, but also the mathematics of the universe. \nCome and share in the work of the Ammi Shaddai – the family of God. In these challenging times\, we can use the Divine Energy and activate the power of the Shekinah to work miracles in our life\, to understand our connection with the infinite way. \nThe seminar will include fascinating audio and video material\, and involve music and prayer as major educational tools for the soul. \nPlease bring a copy of The Book of Knowledge: The Keys of Enoch and The Overself Awakening: A Guide for the Schoolhouse of the Soul\, as well as a bible. \nKey information \nDates: Saturday 28 April & Sunday 29 April 2018. \nTime: Commences 10.30 am and concludes 5.30 pm each day (registration from 10.00 am). \nLocation: Room C1-60\, Building C\, Uni SA Magill Campus\, St Bernards Road\, MAGILL SA 5072. \nParking: On-street parking is available nearby; paid off-street parking is available on campus. \nLunch: There is a café on campus\, as well as numerous cafés\, shops and supermarkets nearby on Magill Road. Alternatively\, you are welcome to bring your own lunch. \nCost: $125 + booking fee ($4.50) for two days; $85 + booking fee ($3.50) for one day. \nRegistration: Go to https://www.stickytickets.com.au/65406. \nFor further information\, please contact Darren on 0430 837 354 or email academyeventsaus@gmail.com  \n*Please note arrangements can be made if you wish to stay for extra day on the Sunday if you book 1 day ticket on Saturday. \nShare:
URL:https://www.keysofenoch.org.au/event/the-quantum-mind-the-overself-awakening-and-the-keys-of-enoch/
LOCATION:University of South Australia\, Magill Campus room C1-60\, Saint Bernards Road\, Magill\, South Australia\, 5072\, Australia
ORGANIZER;CN="AFFS Australia":MAILTO:academyeventsaus@gmail.com
END:VEVENT
BEGIN:VEVENT
DTSTART;TZID=Australia/Melbourne:20180610T110000
DTEND;TZID=Australia/Melbourne:20180610T183000
DTSTAMP:20260426T013857
CREATED:20180601T083606Z
LAST-MODIFIED:20180601T084034Z
UID:2474-1528628400-1528655400@www.keysofenoch.org.au
SUMMARY:Our Divine Image & The Multidimensional Bodies of Man\, June 10
DESCRIPTION:Our Divine Image & the Multidimensional Bodies of Man.\nPLEASE NOTE ***(change in venue and time) see below.\nTime: 11am to 6:30pm – Sunday 10th June\, 2018 \nOne day Melbourne workshop presented by Academy for Future Science Australia coordinators Darren Curtis & Bradley Pitt. \nLocation: Belgrave Creative Space\n1658A Burwood Highway\, Belgrave\, Victoria\, Australia 3160\nhttps://www.facebook.com/belgravecs/ \n\nThis one day seminar introduces the five energy bodies as described in The Book of Knowledge: The Keys of Enoch(R) and will introduce concepts within the new series of Keys\, in particular\, Key 402\, “Thou Shalt Be The Image”. \nWe will explain the nature of these energy bodies and how they connect to the greater multidimensional realms and our Overself reality. With this\, we understand how our physical body is just one of many vehicles manifested from our greater body of Light and Adam Kadmon blueprint. \nThe workshop will explore The Five Bodies\, Key 402\, The Overself Awakening & The Keys of Enoch by by J.J. and Desiree Hurtak. \nTix: Full $60 (+booking fee) and Concession $52 (+booking fee)\nhttps://www.stickytickets.com.au/68955 \nPlease note some AFFS Materials will be available for purchase on the day. \nMore info:\nWeb: www.keysofenoch.org.au\nEmail: academyeventsaus@gmail.com\nPhone: Darren on 0430837354 \nShare:
URL:https://www.keysofenoch.org.au/event/our-divine-image-the-multidimensional-bodies-of-man-june-10/
LOCATION:belgrave creative space\, 1658A Burwood Highway\, Belgrave\, Victoria\, Australia
ORGANIZER;CN="AFFS Australia":MAILTO:academyeventsaus@gmail.com
END:VEVENT
BEGIN:VEVENT
DTSTART;VALUE=DATE:20180818
DTEND;VALUE=DATE:20180820
DTSTAMP:20260426T013857
CREATED:20180701T114828Z
LAST-MODIFIED:20180710T134525Z
UID:2487-1534550400-1534723199@www.keysofenoch.org.au
SUMMARY:Our Divine Image & The Multidimensional Bodies of Man\, Adelaide
DESCRIPTION:Please be advised this workshop is only open to only Australia\, New Zealand & Asia residents. \nJoin us for this two day workshop in Adelaide\, South Australia presented by Academy for Future Science Australia coordinators Darren Curtis & Bradley Pitt. \nSaturday 18 & Sunday 19\, August\, 2018\n10am to 5:30pm Saturday and Sunday \nLocation: Fullarton Park Community Centre \nThis two day seminar introduces the five energy bodies as described in The Book of Knowledge: The Keys of Enoch(R) and will introduce concepts within the new series of Keys\, in particular\, Key 402\, “Thou Shalt Be The Image”. \nWe will explain the nature of these energy bodies and how they connect to the greater multidimensional realms and our Overself reality. With this\, we understand how our physical body is just one of many vehicles manifested from our greater body of Light and Adam Kadmon blueprint. \nThe workshop will explore The Five Bodies\, Key 402\, The Overself Awakening & The Keys of Enoch by by J.J. and Desiree Hurtak. \nTix: Full $99.00 (+booking fee) and Concession $79.00 (+booking fee)\nhttps://www.stickytickets.com.au/72454 \nPlease note some AFFS Materials will be available for purchase on the day. \nMore info:\nWeb: www.keysofenoch.org.au\nEmail: academyeventsaus@gmail.com\nPhone: Darren on 0430837354 \nShare:
URL:https://www.keysofenoch.org.au/event/our-divine-image-the-multidimensional-bodies-of-man-adelaide/
LOCATION:fullarton park community centre\, 411 Fullarton Road\, Fullarton Park\, South Australia\, 5063\, Australia
ORGANIZER;CN="AFFS Australia":MAILTO:academyeventsaus@gmail.com
END:VEVENT
BEGIN:VEVENT
DTSTART;TZID=Australia/Adelaide:20191026T100000
DTEND;TZID=Australia/Adelaide:20191027T153000
DTSTAMP:20260426T013857
CREATED:20190910T145940Z
LAST-MODIFIED:20190910T150908Z
UID:2626-1572084000-1572190200@www.keysofenoch.org.au
SUMMARY:The Brotherhoods and Sisterhoods of Light and The Keys of Enoch® Workshop Adelaide 
DESCRIPTION:The Brotherhoods and Sisterhoods of Light and The Keys of Enoch® Workshop Adelaide \n\n\n \n\n\nA 2 day workshop with Darren & Bradley from the Academy For Future Science Australia.\n\n\n \n\n\nSaturday 26th and Sunday 27 October\n\n\n \n\n\nSat 10:00am – 10pm (with dinner) and Sun 10:30am to 3:30pm\n\n\n\n\n\n\n \n\n\nA special teaching on from The Book of Knowledge: The Keys of Enoch® on the reality of the Masters of Light and B’nai Or\, by J J Hurtak. We will discuss the coming externalisation of the angelic hierarchy of the Living God. We will focus on understanding the extraterrestrial and ultra-terrestrial appearances and the coming of the Cosmic Christ within the larger context of planetary changes.\n\n\n \n\n\n$80 ($70 concession)\n\n\nTickets: https://www.stickytickets.com.au/92689\n\n\nPlease be advised $10 for additional dinner at the venue. \n\n\nTicket link: TBA \n\n\n \n\n\nLocation: The Gateway Centre\, Mitcham South Australia \n\n\n \n\n\nMore info : www.keysofenoch.org.au\n\n\nacademyeventsaus@gmail.com \n\n\nDarren 0430837354 \n\n\n \n\n\n \n\n\nShare:
URL:https://www.keysofenoch.org.au/event/the-brotherhoods-and-sisterhoods-of-light-and-the-keys-of-enoch-workshop-adelaide/
LOCATION:The Gateway Centre Mitcham SA\, 8 old belair road mitcham south australia\, Adelaide\, South Australia\, Australia
ORGANIZER;CN="AFFS Australia":MAILTO:academyeventsaus@gmail.com
END:VEVENT
BEGIN:VEVENT
DTSTART;TZID=Australia/Adelaide:20200208T100000
DTEND;TZID=Australia/Adelaide:20200208T180000
DTSTAMP:20260426T013857
CREATED:20200119T164549Z
LAST-MODIFIED:20200119T164549Z
UID:2639-1581156000-1581184800@www.keysofenoch.org.au
SUMMARY:Harmonics of Light & Colour
DESCRIPTION:Harmonics of Light & Colour Workshop\nFeb 8th\, 2020\nBased on The Book of Knowledge: The Keys of Enoch®\nwith Darren and Bradley AFFS Australia \nGateway Centre Mitcham\, SA: 10-6pm \nThis workshop series explores future science\, spirituality \, multidimensional realties and new areas of healing that are being advanced through the spiritual-technologies of Light\, Colour and Sound. Since 1973 The Keys of Enoch\, has predicted how colour and sound connects with the superluminal Light as the three main factors to allow new forms of consciousness raising\, healing and thought expansion. \nThis workshop will include musical meditation and the use of sacred names to connect back into the higher levels of the Godhead. \n$49 Full / $40 Conc. per workshop. (includes booking fees) \nLocation: The Gateway Centre\, Mitcham South Australia \nMore info : www.keysofenoch.org.au \nTickets: https://www.stickytickets.com.au/CQQ70 \nacademyeventsaus@gmail.com \nBradley 0430 836 811 \nShare:
URL:https://www.keysofenoch.org.au/event/harmonics-of-light-colour/
LOCATION:8 old belair road mitcham\, 8 old belair road\, mitcham\, South Australia\, Australia
ORGANIZER;CN="AFFS Australia":MAILTO:academyeventsaus@gmail.com
END:VEVENT
BEGIN:VEVENT
DTSTART;TZID=Australia/Adelaide:20210619T100000
DTEND;TZID=Australia/Adelaide:20210620T170000
DTSTAMP:20260426T013857
CREATED:20210615T063646Z
LAST-MODIFIED:20210615T063920Z
UID:2849-1624096800-1624208400@www.keysofenoch.org.au
SUMMARY:Astrophysical Realities & The Keys of Enoch ® Two Day Workshop  June 19 & 20th\, 2021
DESCRIPTION:Coming up at the Adelaide Planetarium ! \nAstrophysical Realities & The Keys of Enoch ®\nTwo Day Workshop \nJune 19 & 20th\, 2021 \nAt Adelaide Planetarium\n10:00am to 5:30pm\nPresented by Darren and Bradley\nAcademy for Future Science Australia \nA two day workshop of teaching based on the Book of Knowledge: The Keys of Enoch. Exploring the Astronomical Keys of Enoch. Here we show the inter-connections with spiritual realms from the positive star regions of Orion\, Pleiades Archturus\, based on Keys 106\, 107 & 201. \nWe also explore in the full dome our local galactic neighbourhood which house some of the experimental Extraterrestrial life zones. In this workshop we discuss the music of the spheres and how the ancient star calendars fit within cosmic time cycles\, as we explore these connections in the Adelaide Planetarium Full Dome. \nWe also will have sacred chanting\,\nmeditations and study of the Keys of Enoch associated material. \nLocation: Adelaide Planetarium Building P\, Mawson Lakes SA 5095\nCost for two days:\n$144 Full + bf\n$122 Conc. + bf\nthis workshop is only open to Australian and NZ residents\nany questions please email us at academyeventsaus@gmail.com\nhttps://www.stickytickets.com.au/KBI2N \n \n  \nShare:
URL:https://www.keysofenoch.org.au/event/astrophysical-realities-the-keys-of-enoch-two-day-workshop-june-19-20th-2021/
LOCATION:adelaide planetarium\, Building P - UNI SA\, Sa
ATTACH;FMTTYPE=image/jpeg:https://www.keysofenoch.org.au/wp-content/uploads/63DE62EB-E631-4146-BE47-7F3BE993506B.jpeg
ORGANIZER;CN="AFFS Australia":MAILTO:academyeventsaus@gmail.com
END:VEVENT
BEGIN:VEVENT
DTSTART;TZID=Australia/Adelaide:20230514T080000
DTEND;TZID=Australia/Adelaide:20230514T170000
DTSTAMP:20260426T013857
CREATED:20230527T000033Z
LAST-MODIFIED:20230514T143027Z
UID:2906-1684051200-1684083600@www.keysofenoch.org.au
SUMMARY:The Age of the Holy Spirit & Myriad Manifestations of the Divine Mother\, Sat 27th May
DESCRIPTION:Special One Day Workshop\nThe Age of the Holy Spirit & Myriad Manifestations of the Divine Mother \nSaturday 27th May\, 2023\n9:30am to 5:50pm\nJoin us for for this special workshop at a very special location of the manifestation of the Divine Mother in Yankalilla \n \n  \n  \n  \n  \n  \n  \n  \n  \n  \n  \n  \n  \nThe Keys of Enoch point to the coming Age\, where the gifts of the spirit are poured forth in what is called “The Age of the Holy Spirit.” The Holy Spirit\, Ruach Ha Kodesh is portrayed as a connection to the Divine Feminine aspect of the Godhead. Here in this workshop we discuss our own preparation for the rebirth of our “Christed Overself\,” through the manifestation of the Divine Mother that is to unify us\, as the peoplehood of Light. As we are prepared as the “Bride\,” for the coming of the “Bridegroom”- – the Cosmic Christ. \n$80 Full and $65 Concession \nChurch Hall\n132 Main S Rd\, Yankalilla SA 5203 \n*please be advised bring own lunch or access it via local shops \nTea and coffee will be provided \nRSVP Bradley Pitt\n0430836811 \nacademyeventsaus@gmail.com \nShare:
URL:https://www.keysofenoch.org.au/event/the-age-of-the-holy-spirit-myriad-manifestations-of-the-divine-mother-sat-27th-may/
ATTACH;FMTTYPE=image/png:https://www.keysofenoch.org.au/wp-content/uploads/Screen-Shot-2023-05-14-at-11.41.30-pm.png
END:VEVENT
BEGIN:VEVENT
DTSTART;TZID=Australia/Adelaide:20240418T080000
DTEND;TZID=Australia/Adelaide:20240418T170000
DTSTAMP:20260426T013857
CREATED:20240418T071538Z
LAST-MODIFIED:20240418T071552Z
UID:2950-1713427200-1713459600@www.keysofenoch.org.au
SUMMARY:The Sacred Pictures of the Keys Of Enoch® - Part One
DESCRIPTION:The Sacred Pictures of the Keys Of Enoch® part one.\n18th & 19 of May\nMitcham Community centre\, South Australia  \nwith Darren Curtis and Bradley Pitt – Academy For Future Science Australia\, Teachers and Co-Coordinators. \n \n  \n  \n  \n  \n  \n  \n  \n  \n  \nJoin us to explore the inner teaching and Techniques of Visualisations from the selected Illustarions\, Plates and Pictures of the Keys of Enoch. \nWe will explore the deeper meaning\, focusing on the first 7 plates of the Keys of Enoch exploring on levels of inner experience in that of Visualisation techniques and sacred vibrations and musical nodes of experience in using the Cosmograms of Light \nINFO: \nSaturday 10am to 6pm  (dinner brake)  8pm to 10pm \nSunday 10am to 6pm \nFee $144 or Concession $115 \n(Please contact us if you need to arrange a payment plan\, we have to arrange something) \nwww.keysofenoch.org.au \nacademyeventsaus@gmail.com \nShare:
URL:https://www.keysofenoch.org.au/event/the-sacred-pictures-of-the-keys-of-enoch-part-one/
END:VEVENT
BEGIN:VEVENT
DTSTART;TZID=Australia/Adelaide:20250321T080000
DTEND;TZID=Australia/Adelaide:20250321T170000
DTSTAMP:20260426T013857
CREATED:20250404T233006Z
LAST-MODIFIED:20250321T023758Z
UID:2983-1742544000-1742576400@www.keysofenoch.org.au
SUMMARY:Awakening to our Overself Body of Light & The Keys of Enoch - April 5th and 6th
DESCRIPTION:All are welcome to upcoming workshop in Adelaide. \nAwakening to our Overself Body of Light & The Keys of Enoch\nBased on the book “The Overself Awakening: A Guide for the Schoolhouse of the Soul.” \nThis workshop focus on the significance and function of the Overself as the foundation of Ascension teachings. \nDuring this workshop\, we will explore the essential stages of the spiritual journey that each of us has the potential to undertake while connecting with our Overself Body of Light. \nIn this lifetime\, we are participating in the school of the soul\, where we learn to integrate “The Keys” at various levels\, utilizing the all-accomplishing wisdom to reach enlightenment. \nThis knowledge extends beyond the individual\, reflecting the collective transformations that our planet is destined to undergo. \nApril 5th and 6th \nAt Mitchem Community Centre \n10:30 AM – 7:00 PM \nPlease arrive by 10:00 AM for a 10:30 AM start. \n$150 for two days\n$120 concession \nIf interested\, please send either pvt message or text to 0430836811\n \nShare:
URL:https://www.keysofenoch.org.au/event/awakening-to-our-overself-body-of-light-the-keys-of-enoch-april-5th-and-6th/
END:VEVENT
END:VCALENDAR