BEGIN:VCALENDAR
VERSION:2.0
PRODID:-//KOE Australia - ECPv6.15.20//NONSGML v1.0//EN
CALSCALE:GREGORIAN
METHOD:PUBLISH
X-WR-CALNAME:KOE Australia
X-ORIGINAL-URL:https://www.keysofenoch.org.au
X-WR-CALDESC:Events for KOE Australia
REFRESH-INTERVAL;VALUE=DURATION:PT1H
X-Robots-Tag:noindex
X-PUBLISHED-TTL:PT1H
BEGIN:VTIMEZONE
TZID:Australia/Brisbane
BEGIN:STANDARD
TZOFFSETFROM:+1000
TZOFFSETTO:+1000
TZNAME:AEST
DTSTART:20150101T000000
END:STANDARD
END:VTIMEZONE
BEGIN:VTIMEZONE
TZID:Australia/Adelaide
BEGIN:STANDARD
TZOFFSETFROM:+1030
TZOFFSETTO:+0930
TZNAME:ACST
DTSTART:20160402T163000
END:STANDARD
BEGIN:DAYLIGHT
TZOFFSETFROM:+0930
TZOFFSETTO:+1030
TZNAME:ACDT
DTSTART:20161001T163000
END:DAYLIGHT
BEGIN:STANDARD
TZOFFSETFROM:+1030
TZOFFSETTO:+0930
TZNAME:ACST
DTSTART:20170401T163000
END:STANDARD
BEGIN:DAYLIGHT
TZOFFSETFROM:+0930
TZOFFSETTO:+1030
TZNAME:ACDT
DTSTART:20170930T163000
END:DAYLIGHT
BEGIN:STANDARD
TZOFFSETFROM:+1030
TZOFFSETTO:+0930
TZNAME:ACST
DTSTART:20180331T163000
END:STANDARD
BEGIN:DAYLIGHT
TZOFFSETFROM:+0930
TZOFFSETTO:+1030
TZNAME:ACDT
DTSTART:20181006T163000
END:DAYLIGHT
END:VTIMEZONE
BEGIN:VTIMEZONE
TZID:Australia/Melbourne
BEGIN:STANDARD
TZOFFSETFROM:+1100
TZOFFSETTO:+1000
TZNAME:AEST
DTSTART:20150404T160000
END:STANDARD
BEGIN:DAYLIGHT
TZOFFSETFROM:+1000
TZOFFSETTO:+1100
TZNAME:AEDT
DTSTART:20151003T160000
END:DAYLIGHT
BEGIN:STANDARD
TZOFFSETFROM:+1100
TZOFFSETTO:+1000
TZNAME:AEST
DTSTART:20160402T160000
END:STANDARD
BEGIN:DAYLIGHT
TZOFFSETFROM:+1000
TZOFFSETTO:+1100
TZNAME:AEDT
DTSTART:20161001T160000
END:DAYLIGHT
BEGIN:STANDARD
TZOFFSETFROM:+1100
TZOFFSETTO:+1000
TZNAME:AEST
DTSTART:20170401T160000
END:STANDARD
BEGIN:DAYLIGHT
TZOFFSETFROM:+1000
TZOFFSETTO:+1100
TZNAME:AEDT
DTSTART:20170930T160000
END:DAYLIGHT
END:VTIMEZONE
BEGIN:VEVENT
DTSTART;TZID=Australia/Brisbane:20170812T110000
DTEND;TZID=Australia/Brisbane:20170812T180000
DTSTAMP:20260426T001546
CREATED:20170724T143256Z
LAST-MODIFIED:20170724T143339Z
UID:2354-1502535600-1502560800@www.keysofenoch.org.au
SUMMARY:We are the Image - Keys of Enoch® Workshop
DESCRIPTION:We are the Image – Keys of Enoch® Workshop \nAugust 12th from 11am-6pm at Brisbane Theosophical Society \nJoin AFFS Australia Co-facilitator Bradley Pitt and guest Dr. Kenneth Scott for an introduction to the second Light Picture Superscript\, Key 4-0-2\, of The Book of Knowledge: The Keys of Enoch®. \nKey 4-0-2 proclaims “We Are the Image”. In this workshop we will explore the uniqueness of the human image amidst the evidences of Cosmic Creation and life in the universe. As we learn to understand the power of the Most High within all living things\, we discover that we are part of a higher evolutionary process\, which also exists at the deepest levels of our human nature. From DNA to experiences with the Higher Intelligence\, we are discovering that we are part of a greater Divine Plan of Creation. \nBrisbane Theosophical Society\, 355 Wickham Terrace\, Brisbane\, Qld 4000 \nBradley Pitt \n0430836811 \nacademyeventsaus@gmail.com \nwww.keysofenoch.org.au  \nShare:
URL:https://www.keysofenoch.org.au/event/image-keys-enoch-workshop/
LOCATION:Brisbane Theosophical Society\, 355 Wickham Terrace\, Brisbane\, Qld 4000\, 355 Wickham Terrace\, Brisbane\, Queensland\, Australia
ORGANIZER;CN="AFFS Australia":MAILTO:academyeventsaus@gmail.com
END:VEVENT
BEGIN:VEVENT
DTSTART;TZID=Australia/Adelaide:20170527T100000
DTEND;TZID=Australia/Adelaide:20170527T193000
DTSTAMP:20260426T001546
CREATED:20170516T130206Z
LAST-MODIFIED:20170516T131035Z
UID:2304-1495879200-1495913400@www.keysofenoch.org.au
SUMMARY:We are the Light – The Keys of Enoch® Workshop 27th May Melbourne
DESCRIPTION:We are the Light – The Keys of Enoch® Workshop \nSaturday: 27th May 2017\nTime: 10.00am – 7.30pm\nVenue: CERES\, Dapur Room (details below) \nThou Shall be the Light – Key 4-0-1\, The Keys of Enoch®  \nJoin Australia’s Academy for Future Science Co-Coordinators\, Bradley Pitt & Darren Curtis (with guest Dr. Kenneth Scott) for this special one-day presentation in Melbourne at CERES (Community Environmental Park)  \n\nThis presentation is based on Key 4-0-1\, the first of the next 10 Keys in The Book of Knowledge: The Keys of Enoch®\, released this year by the Academy for Future Science. We will present a brief overview of the Key\, which explores concepts from the seven days of creation to the greater design of our universe. Key 4-0-1 reveals how we are the Light and explains how the Shekinah indwells within each of us\, from the subatomic to the greater levels of the universe. Ultimately the Keys explains how we are part of a greater Divine plan of evolution. \nThe day will be filled the joy of meditation\, chanting\, singing and teaching. \nItinerary for day/evening workshop:  \n10am Start\n12:30-1:45pm (Lunch)\n4:00-4:20pm (Tea Brake)\n7:30pm Finish \nDinner afterwards …… \nFood: available at CERES (there are two places\, the garden shop and cafe)\, or just bring your own. \nCost: Full $47 (+ booking fee of $2.50); Concession $37 (+ booking fee of $2.50) \nBOOKINGS : https://www.stickytickets.com.au/52995 \nTea/coffee will be available. A small donation towards this would be appreciated. \nMore Info: \nCERES Dapur Room\nCnr Roberts & Stewart Sts\, Brunswick East\, VIC 3057 Australia\nhttp://ceres.org.au \nGetting to CERES:\nhttp://ceres.org.au/contact-us/  \nBooking info:\nDarren on 0430837354\nacademyeventsaus@gmail.com  \nwww.keysofenoch.org.au \nShare:
URL:https://www.keysofenoch.org.au/event/light-keys-enoch-workshop-27th-may-melbourne/
LOCATION:CERES\, Stewart St & Roberts St\, Brunswick East\, VIC\, 3057\, Australia
ORGANIZER;CN="AFFS Australia":MAILTO:academyeventsaus@gmail.com
END:VEVENT
BEGIN:VEVENT
DTSTART;TZID=Australia/Brisbane:20161002T110000
DTEND;TZID=Australia/Brisbane:20161002T163000
DTSTAMP:20260426T001546
CREATED:20160920T171151Z
LAST-MODIFIED:20160920T174925Z
UID:2205-1475406000-1475425800@www.keysofenoch.org.au
SUMMARY:We are the Light - Brisbane AFFS workshop Oct 2
DESCRIPTION:Join Australia’s Academy for Future Science Co-Coordinator\, Mr. Bradley Pitt\, for this special one-day presentation in Brisbane.\n\nThis presentation is based on Key 4-0-1\, the first of the next 10 Keys in The Book of Knowledge: The Keys of Enoch®\, released this year by the Academy for Future Science. Bradley will present a brief overview of the Key\, which explores concepts from the seven days of creation to the greater design of our universe. Key 4-0-1 reveals how we are the Light and explains how the Shekinah indwells within each of us\, from the subatomic to the greater levels of the universe. Ultimately the Keys explains how we are part of a greater Divine plan of evolution.\n\nSunday 2 October 2016\nTime: 11.00am – 4.30pm\nVenue: Elizabeth McLean Community Room\, 967 Brunswick St\, New Farm\, QLD 4005.\nCost: $20 – payment link : click here\nRSVP: Bradley on 0430836811 or at academyeventsaus@gmail.com\nShare:
URL:https://www.keysofenoch.org.au/event/brisbane2oct2016/
LOCATION:Elizabeth McLean Community Room\, 967 Brunswick St\, New Farm\, Brisbane \, QLD\, 4005\, Australia
ORGANIZER;CN="AFFS Australia":MAILTO:academyeventsaus@gmail.com
END:VEVENT
BEGIN:VEVENT
DTSTART;TZID=Australia/Melbourne:20160930T190000
DTEND;TZID=Australia/Melbourne:20160930T220000
DTSTAMP:20260426T001546
CREATED:20160920T171845Z
LAST-MODIFIED:20160920T174956Z
UID:2214-1475262000-1475272800@www.keysofenoch.org.au
SUMMARY:Melbourne AFFS Australia Friday 30th Sep.
DESCRIPTION:  \n  \n  \n  \n  \nJoin Australia’s Academy for Future Science Co-Coordinator\, Mr. Darren Curtis\, for an evening study group in Melbourne. \nTopic: Key 1-0-4 the Divine Mother and the End of Suffering \nFrom the myriad Names of the Divine Mother in the Sanskrit tradition to the notions of the feminine Wisdom amongst the ancient Mayan cultures\, the Divine Mother is there to welcome the occasion of our rebirth and regenesis. Indeed\, our daily prayers can draw upon Her Names\, while the cosmic pictures give voice to our hearts’ deepest desires— to be in service to the Source of All and all of humanity. (J. J. Hurtak)\nFriday 30 September 2016\nTime: 7:00pm-10:00pm\nVenue: Ross House\,  Level 1\, 247 Flinders Ln\, Melbourne VIC\nCost: $15/$10 – please pay on the door\nRSVP: Darren Curtis on 0430837354 or at academyeventsaus@gmail.com \nShare:
URL:https://www.keysofenoch.org.au/event/melbourne-affs-30th-sep/
LOCATION:Ross House\, Level 1\, 247 Flinders Ln\, Melbourne\, VIC\, 3000\, Australia
ORGANIZER;CN="AFFS Australia":MAILTO:academyeventsaus@gmail.com
END:VEVENT
END:VCALENDAR