BEGIN:VCALENDAR
VERSION:2.0
PRODID:-//KOE Australia - ECPv6.15.20//NONSGML v1.0//EN
CALSCALE:GREGORIAN
METHOD:PUBLISH
X-WR-CALNAME:KOE Australia
X-ORIGINAL-URL:https://www.keysofenoch.org.au
X-WR-CALDESC:Events for KOE Australia
REFRESH-INTERVAL;VALUE=DURATION:PT1H
X-Robots-Tag:noindex
X-PUBLISHED-TTL:PT1H
BEGIN:VTIMEZONE
TZID:Australia/Adelaide
BEGIN:STANDARD
TZOFFSETFROM:+1030
TZOFFSETTO:+0930
TZNAME:ACST
DTSTART:20170401T163000
END:STANDARD
BEGIN:DAYLIGHT
TZOFFSETFROM:+0930
TZOFFSETTO:+1030
TZNAME:ACDT
DTSTART:20170930T163000
END:DAYLIGHT
BEGIN:STANDARD
TZOFFSETFROM:+1030
TZOFFSETTO:+0930
TZNAME:ACST
DTSTART:20180331T163000
END:STANDARD
BEGIN:DAYLIGHT
TZOFFSETFROM:+0930
TZOFFSETTO:+1030
TZNAME:ACDT
DTSTART:20181006T163000
END:DAYLIGHT
BEGIN:STANDARD
TZOFFSETFROM:+1030
TZOFFSETTO:+0930
TZNAME:ACST
DTSTART:20190406T163000
END:STANDARD
BEGIN:DAYLIGHT
TZOFFSETFROM:+0930
TZOFFSETTO:+1030
TZNAME:ACDT
DTSTART:20191005T163000
END:DAYLIGHT
END:VTIMEZONE
BEGIN:VEVENT
DTSTART;TZID=Australia/Adelaide:20180428T103000
DTEND;TZID=Australia/Adelaide:20180429T173000
DTSTAMP:20260425T011742
CREATED:20180410T083415Z
LAST-MODIFIED:20180410T084023Z
UID:2458-1524911400-1525023000@www.keysofenoch.org.au
SUMMARY:The Quantum Mind\, The Overself Awakening and the Keys of Enoch ®
DESCRIPTION:The Quantum Mind\, The Overself Awakening and The Keys of Enoch® \nA 2-day seminar with Ulli Granögger\, Academy For Future Science Europe\, and Darren Curtis & Bradley Pitt\, Academy for Future Science Australia. \nDates: Saturday 28 April & Sunday 29 April 2018. \nLocation: Adelaide (Magill)\, South Australia. \n(Open to Aus & NZ residents only) \n10:30-5:30pm daily. \nThis seminar will focus on the latest spiritual-scientific synthesis connected with the teaching of The Book of Knowledge: The Keys of Enoch®. Ulli will take you in “The Nine Ways of Bon” in the light of The Keys of Enoch\, which gives us a blueprint for how to change the cognitive and psycho-energetical matrix of our individual access to reality. In these nine step functions we are enabled to open the “time-locks” in our brains until we can work directly with the Highest Orders of Light as the New Adam Kadmon. Ulli will use meditation exercises involving our space-time seals and an understanding of the “world of negative mass” to facilitate a deeper experience of the teaching. \nDarren and Bradley will discuss the awakening of the Overself\, and techniques based on the consciousness sciences and Sacred Music connected with The Keys of Enoch. Can we experience Higher dimensions through sacred sound and a new connection with our true Self? \nThrough the Divine Names revealed to the ancients\, we connect with new transformational linguistics into an activated Light Body. With the Sacred Names\, we can understand the consciousness power of Divine science\, which not only governs the sacred geometry of the temples around the world\, but also the mathematics of the universe. \nCome and share in the work of the Ammi Shaddai – the family of God. In these challenging times\, we can use the Divine Energy and activate the power of the Shekinah to work miracles in our life\, to understand our connection with the infinite way. \nThe seminar will include fascinating audio and video material\, and involve music and prayer as major educational tools for the soul. \nPlease bring a copy of The Book of Knowledge: The Keys of Enoch and The Overself Awakening: A Guide for the Schoolhouse of the Soul\, as well as a bible. \nKey information \nDates: Saturday 28 April & Sunday 29 April 2018. \nTime: Commences 10.30 am and concludes 5.30 pm each day (registration from 10.00 am). \nLocation: Room C1-60\, Building C\, Uni SA Magill Campus\, St Bernards Road\, MAGILL SA 5072. \nParking: On-street parking is available nearby; paid off-street parking is available on campus. \nLunch: There is a café on campus\, as well as numerous cafés\, shops and supermarkets nearby on Magill Road. Alternatively\, you are welcome to bring your own lunch. \nCost: $125 + booking fee ($4.50) for two days; $85 + booking fee ($3.50) for one day. \nRegistration: Go to https://www.stickytickets.com.au/65406. \nFor further information\, please contact Darren on 0430 837 354 or email academyeventsaus@gmail.com  \n*Please note arrangements can be made if you wish to stay for extra day on the Sunday if you book 1 day ticket on Saturday. \nShare:
URL:https://www.keysofenoch.org.au/event/the-quantum-mind-the-overself-awakening-and-the-keys-of-enoch/
LOCATION:University of South Australia\, Magill Campus room C1-60\, Saint Bernards Road\, Magill\, South Australia\, 5072\, Australia
ORGANIZER;CN="AFFS Australia":MAILTO:academyeventsaus@gmail.com
END:VEVENT
END:VCALENDAR